BEGIN:VCALENDAR
VERSION:2.0
PRODID:-//Crowfoot Salvage - ECPv6.15.17.1//NONSGML v1.0//EN
CALSCALE:GREGORIAN
METHOD:PUBLISH
X-WR-CALNAME:Crowfoot Salvage
X-ORIGINAL-URL:https://crowfootsalvage.co.uk
X-WR-CALDESC:Events for Crowfoot Salvage
REFRESH-INTERVAL;VALUE=DURATION:PT1H
X-Robots-Tag:noindex
X-PUBLISHED-TTL:PT1H
BEGIN:VTIMEZONE
TZID:Europe/London
BEGIN:DAYLIGHT
TZOFFSETFROM:+0000
TZOFFSETTO:+0100
TZNAME:BST
DTSTART:20230326T010000
END:DAYLIGHT
BEGIN:STANDARD
TZOFFSETFROM:+0100
TZOFFSETTO:+0000
TZNAME:GMT
DTSTART:20231029T010000
END:STANDARD
BEGIN:DAYLIGHT
TZOFFSETFROM:+0000
TZOFFSETTO:+0100
TZNAME:BST
DTSTART:20240331T010000
END:DAYLIGHT
BEGIN:STANDARD
TZOFFSETFROM:+0100
TZOFFSETTO:+0000
TZNAME:GMT
DTSTART:20241027T010000
END:STANDARD
BEGIN:DAYLIGHT
TZOFFSETFROM:+0000
TZOFFSETTO:+0100
TZNAME:BST
DTSTART:20250330T010000
END:DAYLIGHT
BEGIN:STANDARD
TZOFFSETFROM:+0100
TZOFFSETTO:+0000
TZNAME:GMT
DTSTART:20251026T010000
END:STANDARD
END:VTIMEZONE
BEGIN:VTIMEZONE
TZID:UTC
BEGIN:STANDARD
TZOFFSETFROM:+0000
TZOFFSETTO:+0000
TZNAME:UTC
DTSTART:20210101T000000
END:STANDARD
END:VTIMEZONE
BEGIN:VEVENT
DTSTART;TZID=Europe/London:20241214T120000
DTEND;TZID=Europe/London:20241214T170000
DTSTAMP:20260414T064322
CREATED:20241018T204743Z
LAST-MODIFIED:20241018T205031Z
UID:2767-1734177600-1734195600@crowfootsalvage.co.uk
SUMMARY:GUN BREWERY CHRISTMAS MARKET 2024
DESCRIPTION:over 20 amazing traders down to the brewery for you to browse and get your final Christmas bits.\nRanging from local artists to local food producers.
URL:https://crowfootsalvage.co.uk/event/gun-brewery-christmas-market-2024/
LOCATION:gun brewery taproom\, Gun Brewery\, Hawthbush Farm\, Gun Hill\, East sussex\, TN21 0JX\, United Kingdom
ATTACH;FMTTYPE=image/png:https://crowfootsalvage.co.uk/wp-content/uploads/2024/10/IMG_1205.png
END:VEVENT
BEGIN:VEVENT
DTSTART;TZID=Europe/London:20240922T100000
DTEND;TZID=Europe/London:20240922T160000
DTSTAMP:20260414T064322
CREATED:20240910T120650Z
LAST-MODIFIED:20240910T120650Z
UID:2717-1726999200-1727020800@crowfootsalvage.co.uk
SUMMARY:HYDE GARDENS - WORLD CAR FREE DAY "RECLAIM THE GREEN"
DESCRIPTION:“Come down and enjoy the street free of vehicles\, have some street food and talk to local organisations on how they are tackling the climate crisis.”
URL:https://crowfootsalvage.co.uk/event/hyde-gardens-world-car-free-day-reclaim-the-green/
LOCATION:Hyde Gardens\, Hyde Gardens\, Eastbourne\, East Sussex\, BN21 4PX\, United Kingdom
END:VEVENT
BEGIN:VEVENT
DTSTART;TZID=Europe/London:20240511T100000
DTEND;TZID=Europe/London:20240511T160000
DTSTAMP:20260414T064322
CREATED:20240320T113415Z
LAST-MODIFIED:20240320T113415Z
UID:1905-1715421600-1715443200@crowfootsalvage.co.uk
SUMMARY:Spring Water Festival Eco Fair 2024
DESCRIPTION:Join us at Ecofair24 on Saturday 11th May 2024\, 10am-4pm at Western Lawns in Eastbourne. 🎪 We will bring together local businesses and organisations that are committed to promoting eco-friendly\, recycled\, and reusable products.
URL:https://crowfootsalvage.co.uk/event/spring-water-festival-eco-fair-2024/
LOCATION:western lawns eastbourne\, King Edward’s paraid\, Eastbourne\, East sussex\, BN21 4EH\, United Kingdom
END:VEVENT
BEGIN:VEVENT
DTSTART;TZID=UTC:20221214T160000
DTEND;TZID=UTC:20221214T200000
DTSTAMP:20260414T064322
CREATED:20221123T132543Z
LAST-MODIFIED:20221123T132543Z
UID:132-1671033600-1671048000@crowfootsalvage.co.uk
SUMMARY:The Hub\, Bodiam Christmas Market
DESCRIPTION:
URL:https://crowfootsalvage.co.uk/event/the-hub-bodiam-christmas-market/
LOCATION:the hub\, Quarry farm\, Bodiam\, East sussex\, Tn32 5ra\, United Kingdom
END:VEVENT
BEGIN:VEVENT
DTSTART;TZID=UTC:20221210T120000
DTEND;TZID=UTC:20221210T170000
DTSTAMP:20260414T064322
CREATED:20221121T185020Z
LAST-MODIFIED:20221121T190054Z
UID:123-1670673600-1670691600@crowfootsalvage.co.uk
SUMMARY:Beak X Pharmacy Christmas Market
DESCRIPTION:
URL:https://crowfootsalvage.co.uk/event/beak-x-pharmacy-christmas-market/
LOCATION:beak brewery\, Beak brewery\, cliffe industrial estate\, Lewes\, East sussex\, Bn8 6jl\, United Kingdom
END:VEVENT
BEGIN:VEVENT
DTSTART;TZID=UTC:20221203T090000
DTEND;TZID=UTC:20221203T130000
DTSTAMP:20260414T064322
CREATED:20221121T173548Z
LAST-MODIFIED:20221121T190516Z
UID:119-1670058000-1670072400@crowfootsalvage.co.uk
SUMMARY:Eden farmers & Provisions Market
DESCRIPTION:
URL:https://crowfootsalvage.co.uk/event/eden-farmers-provisions-market/
LOCATION:Ashburnham place\, Battle\, East Sussex\, TN33 9NF\, United Kingdom
END:VEVENT
END:VCALENDAR